BEGIN:VCALENDAR
VERSION:2.0
PRODID:-//ChamberMaster//Event Calendar 2.0//EN
METHOD:PUBLISH
X-PUBLISHED-TTL:P3D
REFRESH-INTERVAL:P3D
CALSCALE:GREGORIAN
BEGIN:VEVENT
DTSTART:20260704T170000Z
DTEND:20260705T010000Z
X-MICROSOFT-CDO-ALLDAYEVENT:FALSE
SUMMARY:America 250: Freedom and Heritage Days
DESCRIPTION:Portales' Ultimate July 4th Celebration! This year\, we're bringing together the very best of Freedom Fest and Heritage Days for one unforgettable community celebration at Portales City Park. Parade starts at 10:00 am\n\nJoin us as we blend tradition\, hometown pride\, and summertime fun into a single spectacular event.\n\nEnjoy a full day packed with local vendors\, delicious food trucks\, and family friendly games that capture the spirit of our community. Cheer on your favorites or jump in yourself during the Volleyball Tournament\, and explore an impressive lineup of classic and custom rides at the Car & Motorcycle Show.\n\nAs the sun sets\, gather with friends and neighbors for the kind of hometown fireworks display that makes July 4th in Portales truly special.\n\nCome celebrate our heritage\, our freedom\, and the people who make Portales home. July 4th   Portales City Park   All Day Fun for All Ages
X-ALT-DESC;FMTTYPE=text/html:<p><span style="white-space-collapse: preserve\;"><strong>Portales&rsquo\; Ultimate July 4th Celebration!</strong> This year\, we&rsquo\;re bringing together the very best of <strong>Freedom Fest</strong> and <strong>Heritage Days</strong> for one unforgettable community celebration at <strong>Portales City Park</strong>. <strong>Parade </strong>starts at 10:00 am<br />\nJoin us as we blend tradition\, hometown pride\, and summertime fun into a single spectacular event.</span></p>\n\n<p><span style="white-space-collapse: preserve\;">Enjoy a full day packed with <strong>local vendors</strong>\, <strong>delicious food trucks</strong>\, and <strong>family&#8209\;friendly games</strong> that capture the spirit of our community. Cheer on your favorites&mdash\;or jump in yourself&mdash\;during the <strong>Volleyball Tournament</strong>\, and explore an impressive lineup of classic and custom rides at the <strong>Car &amp\; Motorcycle Show</strong>.</span></p>\n\n<p><span style="white-space-collapse: preserve\;">As the sun sets\, gather with friends and neighbors for the kind of <strong>hometown fireworks</strong> display that makes July 4th in Portales truly special.</span></p>\n\n<p><span style="white-space-collapse: preserve\;">Come celebrate our heritage\, our freedom\, and the people who make Portales home. <strong>July 4th &bull\; Portales City Park &bull\; All Day Fun for All Ages</strong></span></p>\n
LOCATION:Portales City Park - East 9th Street and Abilene.
UID:e.1197.5228
SEQUENCE:3
DTSTAMP:20260423T235653Z
URL:http://members.portales.com/events/details/america-250-freedom-and-heritage-days-5228
END:VEVENT

END:VCALENDAR
