BEGIN:VCALENDAR
VERSION:2.0
PRODID:-//ChamberMaster//Event Calendar 2.0//EN
METHOD:PUBLISH
X-PUBLISHED-TTL:P3D
REFRESH-INTERVAL:P3D
CALSCALE:GREGORIAN
BEGIN:VEVENT
DTSTART;VALUE=DATE:20260704
DTEND;VALUE=DATE:20260705
TRANSP:TRANSPARENT
X-MICROSOFT-CDO-ALLDAYEVENT:TRUE
SUMMARY:America 250: Freedom and Heritage Days Car Show
DESCRIPTION:Bring your classic cars\, trucks\, and motorcycles! This year our newest addition to the Car Show is side by sides!! Check in and then take your vehicle to the parade\, if that's something you're interested in!
X-ALT-DESC;FMTTYPE=text/html:Bring your classic cars\, trucks\, and motorcycles! This year our newest addition to the Car Show is side by sides!! Check in and then take your vehicle to the parade\, if that&#39\;s something you&#39\;re interested in!
LOCATION:City Park\, E 9th St\, Portales\, NM
UID:e.1197.5242
SEQUENCE:3
DTSTAMP:20260423T235526Z
URL:http://members.portales.com/events/details/america-250-freedom-and-heritage-days-car-show-5242
END:VEVENT

END:VCALENDAR
