BEGIN:VCALENDAR
VERSION:2.0
PRODID:-//ChamberMaster//Event Calendar 2.0//EN
METHOD:PUBLISH
X-PUBLISHED-TTL:P3D
REFRESH-INTERVAL:P3D
CALSCALE:GREGORIAN
BEGIN:VEVENT
DTSTART:20260712T000000Z
DTEND:20260712T013000Z
X-MICROSOFT-CDO-ALLDAYEVENT:FALSE
SUMMARY:Collector Car Appreciation Day
DESCRIPTION:You don't want to miss out on our annual Collector Car Appreciation Car Show! Come bring your Classic Cars and have the opportunity to win the People's Choice or Exhibitor's Choice Awards!
X-ALT-DESC;FMTTYPE=text/html:You don&#39\;t want to miss out on our annual Collector Car Appreciation Car Show! Come bring your Classic Cars and have the opportunity to win the People&#39\;s Choice or Exhibitor&#39\;s Choice Awards!
LOCATION:Roosevelt County Courthouse parking lot
UID:e.1197.5243
SEQUENCE:3
DTSTAMP:20260423T235329Z
URL:http://members.portales.com/events/details/collector-car-appreciation-day-5243
END:VEVENT

END:VCALENDAR
